Name | Last modified | Size | Description | |
---|---|---|---|---|
Parent Directory | - | |||
checksrc-out.txt | 03-Jul-2024 23:20 | 3.7K | ||
buildbin-out.txt | 03-Jul-2024 23:20 | 970 | ||
buildsrc-out.txt | 03-Jul-2024 23:20 | 966 | ||
install-out.txt | 03-Jul-2024 23:20 | 841 | ||
buildbin-summary.dcf | 03-Jul-2024 23:20 | 515 | ||
buildsrc-summary.dcf | 03-Jul-2024 23:20 | 463 | ||
checksrc-summary.dcf | 03-Jul-2024 23:20 | 447 | ||
install-summary.dcf | 03-Jul-2024 23:20 | 268 | ||