Index of /checkResults/release/bioc-LATEST/slalom/raw-results/merida1
Name
Last modified
Size
Description
Parent Directory
-
buildsrc-out.txt
03-Jul-2024 23:22
2.5K
buildsrc-summary.dcf
03-Jul-2024 23:22
341
install-out.txt
03-Jul-2024 23:22
2.3K
install-summary.dcf
03-Jul-2024 23:22
270