Index of /checkResults/release/bioc-LATEST/sesame/raw-results/kjohnson1
Name
Last modified
Size
Description
Parent Directory
-
buildsrc-out.txt
19-Jun-2024 07:02
1.5K
buildsrc-summary.dcf
19-Jun-2024 07:02
342
install-out.txt
19-Jun-2024 07:02
1.0K
install-summary.dcf
19-Jun-2024 07:02
267