Name | Last modified | Size | Description | |
---|---|---|---|---|
Parent Directory | - | |||
buildsrc-out.txt | 26-Jun-2024 06:39 | 889 | ||
buildsrc-summary.dcf | 26-Jun-2024 06:39 | 432 | ||
checksrc-out.txt | 26-Jun-2024 06:39 | 3.5K | ||
checksrc-summary.dcf | 26-Jun-2024 06:39 | 434 | ||
install-out.txt | 26-Jun-2024 06:39 | 967 | ||
install-summary.dcf | 26-Jun-2024 06:39 | 268 | ||