Name | Last modified | Size | Description | |
---|---|---|---|---|
Parent Directory | - | |||
buildsrc-out.txt | 26-Jun-2024 06:39 | 876 | ||
buildsrc-summary.dcf | 26-Jun-2024 06:39 | 417 | ||
checksrc-out.txt | 26-Jun-2024 06:39 | 5.6K | ||
checksrc-summary.dcf | 26-Jun-2024 06:39 | 414 | ||
install-out.txt | 26-Jun-2024 06:39 | 16K | ||
install-summary.dcf | 26-Jun-2024 06:39 | 259 | ||