Index of /checkResults/release/bioc-LATEST/runibic/raw-results
Name
Last modified
Size
Description
Parent Directory
-
palomino3/
26-Jun-2024 06:41
-
nebbiolo1/
26-Jun-2024 06:39
-
kunpeng2/
10-May-2024 00:41
-
info.dcf
26-Jun-2024 06:38
285