Index of /checkResults/release/bioc-LATEST/runibic/raw-results
Name
Last modified
Size
Description
Parent Directory
-
info.dcf
03-Jul-2024 23:18
285
kunpeng2/
10-May-2024 00:41
-
nebbiolo1/
03-Jul-2024 23:19
-
palomino3/
29-Jun-2024 06:42
-
palomino7/
03-Jul-2024 23:20
-