Name | Last modified | Size | Description | |
---|---|---|---|---|
Parent Directory | - | |||
buildbin-out.txt | 03-Jul-2024 23:20 | 2.3K | ||
buildbin-summary.dcf | 03-Jul-2024 23:20 | 537 | ||
buildsrc-out.txt | 03-Jul-2024 23:20 | 891 | ||
buildsrc-summary.dcf | 03-Jul-2024 23:20 | 468 | ||
checksrc-out.txt | 03-Jul-2024 23:20 | 5.1K | ||
checksrc-summary.dcf | 03-Jul-2024 23:20 | 467 | ||
install-out.txt | 03-Jul-2024 23:20 | 2.1K | ||
install-summary.dcf | 03-Jul-2024 23:20 | 276 | ||