Index of /checkResults/release/bioc-LATEST/restfulSE/raw-results/lconway
Name
Last modified
Size
Description
Parent Directory
-
buildsrc-out.txt
12-Jun-2024 03:42
1.1K
buildsrc-summary.dcf
12-Jun-2024 03:42
347
install-out.txt
12-Jun-2024 03:42
1.3K
install-summary.dcf
12-Jun-2024 03:42
273