Index of /checkResults/release/bioc-LATEST/restfulSE/raw-results/kjohnson1
Name
Last modified
Size
Description
Parent Directory
-
buildsrc-out.txt
03-Jul-2024 23:23
1.2K
buildsrc-summary.dcf
03-Jul-2024 23:23
347
install-out.txt
03-Jul-2024 23:23
1.3K
install-summary.dcf
03-Jul-2024 23:23
273