Name | Last modified | Size | Description | |
---|---|---|---|---|
Parent Directory | - | |||
checksrc-out.txt | 17-Jul-2024 06:40 | 3.7K | ||
buildbin-out.txt | 17-Jul-2024 06:40 | 1.1K | ||
install-out.txt | 17-Jul-2024 06:40 | 962 | ||
buildsrc-out.txt | 17-Jul-2024 06:40 | 838 | ||
buildbin-summary.dcf | 17-Jul-2024 06:40 | 512 | ||
buildsrc-summary.dcf | 17-Jul-2024 06:40 | 451 | ||
checksrc-summary.dcf | 17-Jul-2024 06:40 | 445 | ||
install-summary.dcf | 17-Jul-2024 06:40 | 267 | ||