Name | Last modified | Size | Description | |
---|---|---|---|---|
Parent Directory | - | |||
install-summary.dcf | 29-Jun-2024 06:42 | 266 | ||
checksrc-summary.dcf | 29-Jun-2024 06:42 | 443 | ||
buildsrc-summary.dcf | 29-Jun-2024 06:42 | 449 | ||
buildbin-summary.dcf | 29-Jun-2024 06:42 | 509 | ||
buildsrc-out.txt | 29-Jun-2024 06:42 | 866 | ||
install-out.txt | 29-Jun-2024 06:42 | 1.5K | ||
buildbin-out.txt | 29-Jun-2024 06:42 | 1.6K | ||
checksrc-out.txt | 29-Jun-2024 06:42 | 3.9K | ||