Name | Last modified | Size | Description | |
---|---|---|---|---|
Parent Directory | - | |||
buildbin-out.txt | 26-Jun-2024 06:41 | 1.6K | ||
buildbin-summary.dcf | 26-Jun-2024 06:41 | 510 | ||
buildsrc-out.txt | 26-Jun-2024 06:41 | 866 | ||
buildsrc-summary.dcf | 26-Jun-2024 06:41 | 449 | ||
checksrc-out.txt | 26-Jun-2024 06:41 | 3.9K | ||
checksrc-summary.dcf | 26-Jun-2024 06:41 | 443 | ||
install-out.txt | 26-Jun-2024 06:41 | 1.5K | ||
install-summary.dcf | 26-Jun-2024 06:41 | 266 | ||