Name | Last modified | Size | Description | |
---|---|---|---|---|
Parent Directory | - | |||
buildbin-out.txt | 12-Jun-2024 03:42 | 14K | ||
buildbin-summary.dcf | 12-Jun-2024 03:42 | 524 | ||
buildsrc-out.txt | 12-Jun-2024 03:42 | 842 | ||
buildsrc-summary.dcf | 12-Jun-2024 03:42 | 424 | ||
checksrc-out.txt | 12-Jun-2024 03:42 | 6.0K | ||
checksrc-summary.dcf | 12-Jun-2024 03:42 | 446 | ||
install-out.txt | 12-Jun-2024 03:42 | 12K | ||
install-summary.dcf | 12-Jun-2024 03:42 | 267 | ||