Name | Last modified | Size | Description | |
---|---|---|---|---|
Parent Directory | - | |||
install-summary.dcf | 19-Jun-2024 06:58 | 253 | ||
install-out.txt | 19-Jun-2024 06:58 | 2.2K | ||
checksrc-summary.dcf | 19-Jun-2024 06:58 | 408 | ||
checksrc-out.txt | 19-Jun-2024 06:58 | 4.8K | ||
buildsrc-summary.dcf | 19-Jun-2024 06:58 | 408 | ||
buildsrc-out.txt | 19-Jun-2024 06:58 | 887 | ||