Name | Last modified | Size | Description | |
---|---|---|---|---|
Parent Directory | - | |||
checksrc-summary.dcf | 08-Jun-2024 09:28 | 460 | ||
checksrc-out.txt | 08-Jun-2024 09:28 | 5.9K | ||
buildbin-summary.dcf | 08-Jun-2024 09:28 | 549 | ||
buildbin-out.txt | 08-Jun-2024 09:28 | 4.9K | ||
install-out.txt | 12-Jun-2024 03:44 | 2.8K | ||
install-summary.dcf | 12-Jun-2024 03:44 | 276 | ||
buildsrc-summary.dcf | 12-Jun-2024 03:44 | 350 | ||
buildsrc-out.txt | 12-Jun-2024 03:44 | 1.5K | ||