Index of /checkResults/release/bioc-LATEST/phemd/raw-results/kunpeng2
Name
Last modified
Size
Description
Parent Directory
-
buildsrc-out.txt
10-May-2024 00:41
1.1K
buildsrc-summary.dcf
10-May-2024 00:41
340
install-out.txt
10-May-2024 00:41
1.5K
install-summary.dcf
10-May-2024 00:41
266