Name | Last modified | Size | Description | |
---|---|---|---|---|
Parent Directory | - | |||
buildbin-out.txt | 26-Jun-2024 06:41 | 1.1K | ||
buildbin-summary.dcf | 26-Jun-2024 06:41 | 527 | ||
buildsrc-out.txt | 26-Jun-2024 06:41 | 886 | ||
buildsrc-summary.dcf | 26-Jun-2024 06:41 | 461 | ||
checksrc-out.txt | 26-Jun-2024 06:41 | 5.3K | ||
checksrc-summary.dcf | 26-Jun-2024 06:41 | 459 | ||
install-out.txt | 26-Jun-2024 06:41 | 968 | ||
install-summary.dcf | 26-Jun-2024 06:41 | 272 | ||