Name | Last modified | Size | Description | |
---|---|---|---|---|
Parent Directory | - | |||
buildbin-out.txt | 29-Jun-2024 06:42 | 2.5K | ||
buildbin-summary.dcf | 29-Jun-2024 06:42 | 510 | ||
buildsrc-out.txt | 29-Jun-2024 06:42 | 926 | ||
buildsrc-summary.dcf | 29-Jun-2024 06:42 | 448 | ||
checksrc-out.txt | 29-Jun-2024 06:42 | 5.6K | ||
checksrc-summary.dcf | 29-Jun-2024 06:42 | 443 | ||
install-out.txt | 29-Jun-2024 06:42 | 2.4K | ||
install-summary.dcf | 29-Jun-2024 06:42 | 267 | ||