Name | Last modified | Size | Description | |
---|---|---|---|---|
Parent Directory | - | |||
buildbin-out.txt | 12-Jun-2024 03:42 | 6.4K | ||
buildbin-summary.dcf | 12-Jun-2024 03:42 | 525 | ||
buildsrc-out.txt | 12-Jun-2024 03:42 | 905 | ||
buildsrc-summary.dcf | 12-Jun-2024 03:42 | 425 | ||
checksrc-out.txt | 12-Jun-2024 03:42 | 5.1K | ||
checksrc-summary.dcf | 12-Jun-2024 03:42 | 440 | ||
install-out.txt | 12-Jun-2024 03:42 | 2.9K | ||
install-summary.dcf | 12-Jun-2024 03:42 | 267 | ||