Name | Last modified | Size | Description | |
---|---|---|---|---|
Parent Directory | - | |||
buildbin-out.txt | 03-Jul-2024 23:21 | 7.9K | ||
buildbin-summary.dcf | 03-Jul-2024 23:21 | 543 | ||
buildsrc-out.txt | 03-Jul-2024 23:21 | 854 | ||
buildsrc-summary.dcf | 03-Jul-2024 23:21 | 434 | ||
checksrc-out.txt | 03-Jul-2024 23:21 | 3.5K | ||
checksrc-summary.dcf | 03-Jul-2024 23:21 | 451 | ||
install-out.txt | 03-Jul-2024 23:21 | 5.8K | ||
install-summary.dcf | 03-Jul-2024 23:21 | 273 | ||