Name | Last modified | Size | Description | |
---|---|---|---|---|
Parent Directory | - | |||
buildsrc-out.txt | 03-Jul-2024 23:19 | 876 | ||
buildsrc-summary.dcf | 03-Jul-2024 23:19 | 410 | ||
checksrc-out.txt | 03-Jul-2024 23:19 | 6.4K | ||
checksrc-summary.dcf | 03-Jul-2024 23:19 | 412 | ||
install-out.txt | 03-Jul-2024 23:19 | 3.9K | ||
install-summary.dcf | 03-Jul-2024 23:19 | 255 | ||