Name | Last modified | Size | Description | |
---|---|---|---|---|
Parent Directory | - | |||
buildbin-out.txt | 26-Jun-2024 06:43 | 8.8K | ||
buildbin-summary.dcf | 26-Jun-2024 06:43 | 518 | ||
buildsrc-out.txt | 26-Jun-2024 06:43 | 886 | ||
buildsrc-summary.dcf | 26-Jun-2024 06:43 | 420 | ||
checksrc-out.txt | 26-Jun-2024 06:43 | 6.6K | ||
checksrc-summary.dcf | 26-Jun-2024 06:43 | 442 | ||
install-out.txt | 26-Jun-2024 06:43 | 5.4K | ||
install-summary.dcf | 26-Jun-2024 06:43 | 265 | ||