Name | Last modified | Size | Description | |
---|---|---|---|---|
Parent Directory | - | |||
buildbin-out.txt | 03-Jul-2024 23:23 | 14K | ||
buildbin-summary.dcf | 03-Jul-2024 23:23 | 536 | ||
buildsrc-out.txt | 03-Jul-2024 23:23 | 898 | ||
buildsrc-summary.dcf | 03-Jul-2024 23:23 | 430 | ||
checksrc-out.txt | 03-Jul-2024 23:23 | 5.7K | ||
checksrc-summary.dcf | 03-Jul-2024 23:23 | 454 | ||
install-out.txt | 03-Jul-2024 23:23 | 12K | ||
install-summary.dcf | 03-Jul-2024 23:23 | 271 | ||