Index of /checkResults/release/bioc-LATEST/netOmics/raw-results/lconway
Name
Last modified
Size
Description
Parent Directory
-
buildsrc-out.txt
12-Jun-2024 03:42
1.0K
buildsrc-summary.dcf
12-Jun-2024 03:42
345
install-out.txt
12-Jun-2024 03:42
1.0K
install-summary.dcf
12-Jun-2024 03:42
271