Name | Last modified | Size | Description | |
---|---|---|---|---|
Parent Directory | - | |||
buildbin-out.txt | 05-Mar-2024 01:39 | 1.2K | ||
buildbin-summary.dcf | 05-Mar-2024 01:39 | 537 | ||
buildsrc-out.txt | 26-Jun-2024 06:42 | 902 | ||
buildsrc-summary.dcf | 26-Jun-2024 06:42 | 344 | ||
checksrc-out.txt | 05-Mar-2024 01:39 | 3.8K | ||
checksrc-summary.dcf | 05-Mar-2024 01:39 | 448 | ||
install-out.txt | 26-Jun-2024 06:42 | 706 | ||
install-summary.dcf | 26-Jun-2024 06:42 | 273 | ||