Name | Last modified | Size | Description | |
---|---|---|---|---|
Parent Directory | - | |||
buildbin-out.txt | 03-Jul-2024 23:20 | 116K | ||
install-out.txt | 03-Jul-2024 23:20 | 116K | ||
checksrc-out.txt | 03-Jul-2024 23:20 | 6.8K | ||
buildsrc-out.txt | 03-Jul-2024 23:20 | 866 | ||
buildbin-summary.dcf | 03-Jul-2024 23:20 | 510 | ||
checksrc-summary.dcf | 03-Jul-2024 23:20 | 449 | ||
buildsrc-summary.dcf | 03-Jul-2024 23:20 | 449 | ||
install-summary.dcf | 03-Jul-2024 23:20 | 266 | ||