Name | Last modified | Size | Description | |
---|---|---|---|---|
Parent Directory | - | |||
buildbin-out.txt | 03-Jul-2024 23:23 | 169K | ||
buildbin-summary.dcf | 03-Jul-2024 23:23 | 524 | ||
buildsrc-out.txt | 03-Jul-2024 23:23 | 842 | ||
buildsrc-summary.dcf | 03-Jul-2024 23:23 | 422 | ||
checksrc-out.txt | 03-Jul-2024 23:23 | 5.4K | ||
checksrc-summary.dcf | 03-Jul-2024 23:23 | 445 | ||
install-out.txt | 03-Jul-2024 23:23 | 167K | ||
install-summary.dcf | 03-Jul-2024 23:23 | 267 | ||