Name | Last modified | Size | Description | |
---|---|---|---|---|
Parent Directory | - | |||
install-summary.dcf | 10-Jul-2024 06:39 | 271 | ||
install-out.txt | 10-Jul-2024 06:39 | 1.2K | ||
buildsrc-out.txt | 10-Jul-2024 06:39 | 830 | ||
buildsrc-summary.dcf | 10-Jul-2024 06:39 | 435 | ||
checksrc-out.txt | 10-Jul-2024 06:39 | 3.8K | ||
checksrc-summary.dcf | 10-Jul-2024 06:39 | 442 | ||