Name | Last modified | Size | Description | |
---|---|---|---|---|
Parent Directory | - | |||
buildbin-out.txt | 26-Jun-2024 06:42 | 9.0K | ||
buildbin-summary.dcf | 26-Jun-2024 06:42 | 560 | ||
buildsrc-out.txt | 26-Jun-2024 06:42 | 866 | ||
buildsrc-summary.dcf | 26-Jun-2024 06:42 | 443 | ||
checksrc-out.txt | 26-Jun-2024 06:42 | 4.2K | ||
checksrc-summary.dcf | 26-Jun-2024 06:42 | 464 | ||
install-out.txt | 26-Jun-2024 06:42 | 7.0K | ||
install-summary.dcf | 26-Jun-2024 06:42 | 279 | ||