Name | Last modified | Size | Description | |
---|---|---|---|---|
Parent Directory | - | |||
buildbin-out.txt | 26-Jun-2024 06:42 | 11K | ||
buildbin-summary.dcf | 26-Jun-2024 06:42 | 519 | ||
buildsrc-out.txt | 26-Jun-2024 06:42 | 901 | ||
buildsrc-summary.dcf | 26-Jun-2024 06:42 | 422 | ||
checksrc-out.txt | 26-Jun-2024 06:42 | 4.8K | ||
checksrc-summary.dcf | 26-Jun-2024 06:42 | 468 | ||
install-out.txt | 26-Jun-2024 06:42 | 9.5K | ||
install-summary.dcf | 26-Jun-2024 06:42 | 266 | ||