Name | Last modified | Size | Description | |
---|---|---|---|---|
Parent Directory | - | |||
install-out.txt | 10-Jul-2024 06:39 | 15K | ||
install-summary.dcf | 10-Jul-2024 06:39 | 255 | ||
buildsrc-out.txt | 10-Jul-2024 06:39 | 890 | ||
buildsrc-summary.dcf | 10-Jul-2024 06:39 | 411 | ||
checksrc-summary.dcf | 10-Jul-2024 06:39 | 405 | ||
checksrc-out.txt | 10-Jul-2024 06:39 | 6.7K | ||