Name | Last modified | Size | Description | |
---|---|---|---|---|
Parent Directory | - | |||
buildbin-out.txt | 03-Jul-2024 23:20 | 1.8K | ||
buildbin-summary.dcf | 03-Jul-2024 23:20 | 500 | ||
buildsrc-out.txt | 03-Jul-2024 23:20 | 920 | ||
buildsrc-summary.dcf | 03-Jul-2024 23:20 | 443 | ||
checksrc-out.txt | 03-Jul-2024 23:20 | 4.9K | ||
checksrc-summary.dcf | 03-Jul-2024 23:20 | 437 | ||
install-out.txt | 03-Jul-2024 23:20 | 1.7K | ||
install-summary.dcf | 03-Jul-2024 23:20 | 263 | ||