Name | Last modified | Size | Description | |
---|---|---|---|---|
Parent Directory | - | |||
buildbin-out.txt | 22-Jun-2024 06:39 | 5.4K | ||
buildbin-summary.dcf | 22-Jun-2024 06:39 | 539 | ||
buildsrc-out.txt | 22-Jun-2024 06:39 | 951 | ||
buildsrc-summary.dcf | 22-Jun-2024 06:39 | 469 | ||
checksrc-out.txt | 22-Jun-2024 06:39 | 8.0K | ||
checksrc-summary.dcf | 22-Jun-2024 06:39 | 464 | ||
install-out.txt | 22-Jun-2024 06:39 | 5.2K | ||
install-summary.dcf | 22-Jun-2024 06:39 | 277 | ||