Name | Last modified | Size | Description | |
---|---|---|---|---|
Parent Directory | - | |||
buildbin-summary.dcf | 10-Jul-2024 06:43 | 548 | ||
buildbin-out.txt | 10-Jul-2024 06:43 | 3.9K | ||
checksrc-summary.dcf | 10-Jul-2024 06:43 | 462 | ||
checksrc-out.txt | 10-Jul-2024 06:43 | 4.5K | ||
buildsrc-summary.dcf | 10-Jul-2024 06:43 | 437 | ||
buildsrc-out.txt | 10-Jul-2024 06:43 | 1.3K | ||
install-summary.dcf | 10-Jul-2024 06:43 | 275 | ||
install-out.txt | 10-Jul-2024 06:43 | 1.9K | ||