Index of /checkResults/release/bioc-LATEST/methodical/raw-results/palomino7
Name
Last modified
Size
Description
Parent Directory
-
buildsrc-out.txt
03-Jul-2024 23:20
2.1K
buildsrc-summary.dcf
03-Jul-2024 23:20
377
install-out.txt
03-Jul-2024 23:20
1.0K
install-summary.dcf
03-Jul-2024 23:20
273