Name | Last modified | Size | Description | |
---|---|---|---|---|
Parent Directory | - | |||
buildbin-out.txt | 10-Jul-2024 06:43 | 1.3K | ||
buildbin-summary.dcf | 10-Jul-2024 06:43 | 620 | ||
buildsrc-out.txt | 10-Jul-2024 06:43 | 6.8K | ||
buildsrc-summary.dcf | 10-Jul-2024 06:43 | 472 | ||
checksrc-out.txt | 10-Jul-2024 06:43 | 5.9K | ||
checksrc-summary.dcf | 10-Jul-2024 06:43 | 504 | ||
install-out.txt | 10-Jul-2024 06:43 | 1.0K | ||
install-summary.dcf | 10-Jul-2024 06:43 | 299 | ||