Name | Last modified | Size | Description | |
---|---|---|---|---|
Parent Directory | - | |||
buildbin-out.txt | 29-Jun-2024 06:41 | 2.7K | ||
buildbin-summary.dcf | 29-Jun-2024 06:41 | 521 | ||
buildsrc-out.txt | 29-Jun-2024 06:41 | 913 | ||
buildsrc-summary.dcf | 29-Jun-2024 06:41 | 457 | ||
checksrc-out.txt | 29-Jun-2024 06:41 | 89K | ||
checksrc-summary.dcf | 29-Jun-2024 06:41 | 451 | ||
install-out.txt | 29-Jun-2024 06:41 | 2.5K | ||
install-summary.dcf | 29-Jun-2024 06:41 | 270 | ||