Name | Last modified | Size | Description | |
---|---|---|---|---|
Parent Directory | - | |||
install-summary.dcf | 13-Jul-2024 06:41 | 271 | ||
install-out.txt | 13-Jul-2024 06:41 | 2.8K | ||
checksrc-summary.dcf | 13-Jul-2024 06:41 | 448 | ||
checksrc-out.txt | 13-Jul-2024 06:41 | 93K | ||
buildsrc-summary.dcf | 13-Jul-2024 06:41 | 430 | ||
buildsrc-out.txt | 13-Jul-2024 06:41 | 890 | ||
buildbin-summary.dcf | 13-Jul-2024 06:41 | 536 | ||
buildbin-out.txt | 13-Jul-2024 06:41 | 5.2K | ||