Name | Last modified | Size | Description | |
---|---|---|---|---|
Parent Directory | - | |||
install-summary.dcf | 10-May-2024 00:41 | 272 | ||
buildsrc-summary.dcf | 10-May-2024 00:41 | 431 | ||
checksrc-summary.dcf | 10-May-2024 00:41 | 461 | ||
buildsrc-out.txt | 10-May-2024 00:41 | 891 | ||
install-out.txt | 10-May-2024 00:41 | 3.0K | ||
checksrc-out.txt | 10-May-2024 00:41 | 93K | ||