Name | Last modified | Size | Description | |
---|---|---|---|---|
Parent Directory | - | |||
install-summary.dcf | 13-Jul-2024 06:42 | 271 | ||
install-out.txt | 13-Jul-2024 06:42 | 2.8K | ||
checksrc-summary.dcf | 13-Jul-2024 06:42 | 448 | ||
checksrc-out.txt | 13-Jul-2024 06:42 | 92K | ||
buildsrc-summary.dcf | 13-Jul-2024 06:42 | 430 | ||
buildsrc-out.txt | 13-Jul-2024 06:42 | 890 | ||
buildbin-summary.dcf | 13-Jul-2024 06:42 | 536 | ||
buildbin-out.txt | 13-Jul-2024 06:42 | 5.3K | ||