Name | Last modified | Size | Description | |
---|---|---|---|---|
Parent Directory | - | |||
palomino7/ | 13-Jul-2024 06:39 | - | ||
palomino3/ | 29-Jun-2024 06:41 | - | ||
nebbiolo1/ | 13-Jul-2024 06:38 | - | ||
merida1/ | 13-Jul-2024 06:41 | - | ||
lconway/ | 12-Jun-2024 03:42 | - | ||
kunpeng2/ | 10-May-2024 00:41 | - | ||
kjohnson3/ | 12-Jun-2024 03:43 | - | ||
kjohnson1/ | 13-Jul-2024 06:42 | - | ||
info.dcf | 13-Jul-2024 06:37 | 276 | ||