Name | Last modified | Size | Description | |
---|---|---|---|---|
Parent Directory | - | |||
buildbin-out.txt | 03-Jul-2024 23:21 | 1.2K | ||
buildbin-summary.dcf | 03-Jul-2024 23:21 | 555 | ||
buildsrc-out.txt | 03-Jul-2024 23:21 | 895 | ||
buildsrc-summary.dcf | 03-Jul-2024 23:21 | 440 | ||
checksrc-out.txt | 03-Jul-2024 23:21 | 7.0K | ||
checksrc-summary.dcf | 03-Jul-2024 23:21 | 461 | ||
install-out.txt | 03-Jul-2024 23:21 | 1.0K | ||
install-summary.dcf | 03-Jul-2024 23:21 | 278 | ||