Index of /checkResults/release/bioc-LATEST/igvShiny/raw-results/palomino7
Name
Last modified
Size
Description
Parent Directory
-
buildsrc-out.txt
03-Jul-2024 23:20
1.0K
buildsrc-summary.dcf
03-Jul-2024 23:20
370
install-out.txt
03-Jul-2024 23:20
965
install-summary.dcf
03-Jul-2024 23:20
269