Name | Last modified | Size | Description | |
---|---|---|---|---|
Parent Directory | - | |||
buildsrc-out.txt | 03-Jul-2024 23:19 | 837 | ||
buildsrc-summary.dcf | 03-Jul-2024 23:19 | 409 | ||
checksrc-out.txt | 03-Jul-2024 23:19 | 7.8K | ||
checksrc-summary.dcf | 03-Jul-2024 23:19 | 410 | ||
install-out.txt | 03-Jul-2024 23:19 | 954 | ||
install-summary.dcf | 03-Jul-2024 23:19 | 253 | ||