Index of /checkResults/release/bioc-LATEST/hipathia/raw-results/kjohnson1
Name
Last modified
Size
Description
Parent Directory
-
buildsrc-out.txt
03-Jul-2024 23:22
1.3K
buildsrc-summary.dcf
03-Jul-2024 23:22
344
install-out.txt
03-Jul-2024 23:22
1.0K
install-summary.dcf
03-Jul-2024 23:22
270