Name | Last modified | Size | Description | |
---|---|---|---|---|
Parent Directory | - | |||
buildbin-out.txt | 10-Jul-2024 06:43 | 6.3K | ||
buildbin-summary.dcf | 10-Jul-2024 06:43 | 511 | ||
buildsrc-out.txt | 10-Jul-2024 06:43 | 897 | ||
buildsrc-summary.dcf | 10-Jul-2024 06:43 | 418 | ||
checksrc-out.txt | 10-Jul-2024 06:43 | 7.9K | ||
checksrc-summary.dcf | 10-Jul-2024 06:43 | 438 | ||
install-out.txt | 10-Jul-2024 06:43 | 3.7K | ||
install-summary.dcf | 10-Jul-2024 06:43 | 263 | ||