Name | Last modified | Size | Description | |
---|---|---|---|---|
Parent Directory | - | |||
buildbin-out.txt | 29-Jun-2024 06:41 | 1.1K | ||
buildbin-summary.dcf | 29-Jun-2024 06:41 | 515 | ||
buildsrc-out.txt | 29-Jun-2024 06:41 | 899 | ||
buildsrc-summary.dcf | 29-Jun-2024 06:41 | 453 | ||
checksrc-out.txt | 29-Jun-2024 06:41 | 5.1K | ||
checksrc-summary.dcf | 29-Jun-2024 06:41 | 447 | ||
install-out.txt | 29-Jun-2024 06:41 | 971 | ||
install-summary.dcf | 29-Jun-2024 06:41 | 268 | ||