Name | Last modified | Size | Description | |
---|---|---|---|---|
Parent Directory | - | |||
buildbin-out.txt | 13-Jul-2024 06:41 | 1.2K | ||
buildbin-summary.dcf | 13-Jul-2024 06:41 | 531 | ||
buildsrc-out.txt | 13-Jul-2024 06:41 | 879 | ||
buildsrc-summary.dcf | 13-Jul-2024 06:41 | 428 | ||
checksrc-out.txt | 13-Jul-2024 06:41 | 6.3K | ||
checksrc-summary.dcf | 13-Jul-2024 06:41 | 448 | ||
install-out.txt | 13-Jul-2024 06:41 | 1.0K | ||
install-summary.dcf | 13-Jul-2024 06:41 | 270 | ||