Name | Last modified | Size | Description | |
---|---|---|---|---|
Parent Directory | - | |||
install-summary.dcf | 13-Jul-2024 06:38 | 259 | ||
install-out.txt | 13-Jul-2024 06:38 | 952 | ||
checksrc-summary.dcf | 13-Jul-2024 06:38 | 414 | ||
checksrc-out.txt | 13-Jul-2024 06:38 | 4.3K | ||
buildsrc-summary.dcf | 13-Jul-2024 06:38 | 417 | ||
buildsrc-out.txt | 13-Jul-2024 06:38 | 806 | ||